BEGIN:VCALENDAR
VERSION:2.0
PRODID:-//Plone.org//NONSGML plone.app.event//EN
X-WR-TIMEZONE:US/Central
BEGIN:VEVENT
SUMMARY:Story Time
DTSTART;TZID=US/Central:20191002T103000
DTEND;TZID=US/Central:20191002T113000
DTSTAMP:20260420T150821Z
UID:b4fa755c18dc46e6aeadb8b634843781@saas_stack_varnish:6080
ATTENDEE;CN="Pre-School and Kindergarten age children.";ROLE=REQ-PARTICIPA
 NT:Pre-School and Kindergarten age children.
CONTACT:Sandra Verdin\, children's librarian\, 432-264-2260\, sandra.verdi
 n@howardcountytx.com
CREATED:20190404T221808Z
DESCRIPTION:Story Time for Pre-School and Kindergarten.
LAST-MODIFIED:20200423T233433Z
LOCATION:Children's room
URL:https://howard-county.ploud.net/news-events/story-time-1/2019-10-02
END:VEVENT
BEGIN:VTIMEZONE
TZID:US/Central
X-LIC-LOCATION:US/Central
BEGIN:DAYLIGHT
DTSTART:20190310T030000
TZNAME:CDT
TZOFFSETFROM:-0600
TZOFFSETTO:-0500
END:DAYLIGHT
END:VTIMEZONE
END:VCALENDAR
