BEGIN:VCALENDAR
VERSION:2.0
PRODID:-//Plone.org//NONSGML plone.app.event//EN
X-WR-TIMEZONE:US/Central
BEGIN:VEVENT
SUMMARY:Family Storytime
DTSTART;TZID=US/Central:20191231T173000
DTEND;TZID=US/Central:20191231T183000
DTSTAMP:20260421T115142Z
UID:0a6e1b2b408844a9a98510bfb77937cf@saas_stack_varnish:6080
CONTACT:Sandra Verdin\, 432-264-2260\, sandra.verdin@howardcountytx.com
CREATED:20190405T201747Z
DESCRIPTION:Come listen to great stories with the whole family!
LAST-MODIFIED:20200423T233759Z
LOCATION:Children's Room
URL:https://howard-county.ploud.net/news-events/lib-cal/family-storytime/2
 019-12-31
END:VEVENT
BEGIN:VTIMEZONE
TZID:US/Central
X-LIC-LOCATION:US/Central
BEGIN:STANDARD
DTSTART:20191103T010000
TZNAME:CST
TZOFFSETFROM:-0500
TZOFFSETTO:-0600
END:STANDARD
END:VTIMEZONE
END:VCALENDAR
